BEGIN:VCALENDAR
METHOD:PUBLISH
CALSCALE:GREGORIAN
PRODID:iCalendar-Ruby
VERSION:2.0
BEGIN:VEVENT
DESCRIPTION:<h3>Session Agendas</h3>\n<p class="default"><strong>Monday\, F
 ebruary 23rd</strong><br />\nAffordable Care Act: What Tribal Leaders Need 
 to KNow for 2015 - <a href="/conferences-events/ncai-events/ACA_What_Tribal
 _Leaders_Need_to_Know.pdf"><strong>Agenda</strong></a><br />\nDOI/IHS Joint
  Listening Session on Contract Support Costs - <a href="/conferences-events
 /ncai-events/DOI_Consultation_Invite_Letter.pdf"><strong>Invite Letter</str
 ong></a><br />\nExploring Tribal Marijuana Policy - <a href="/conferences-e
 vents/ncai-events/Exploring_Tribal_Marijuana_Policy.pdf"><strong>Agenda</st
 rong></a><br />\nTANF Task Force - <a href="/conferences-events/ncai-events
 /ECWS_Tribal_TANF_Task_Force_Pre-Meeting_Agenda_Draft.pdf"><strong>Agenda</
 strong></a><br />\nTask Force on Federal Acknowledgment - <a href="/confere
 nces-events/ncai-events/Task_Force_on_Fed_Acknowledgment.pdf"><strong>Agend
 a </strong></a><br />\nTax - <a href="/conferences-events/ncai-events/Tax_B
 reakout_Session_-_ECWS_2015.pdf"><strong>Agenda</strong></a><br />\n<span s
 tyle="font-size: 14.3999996185303px\;">Tribal Homeland Security and Emergen
 cy Management -&nbsp\;</span><a href="/conferences-events/ncai-events/Triba
 l_Homeland_Security_and_Emergency_Management.pdf" style="font-size: 14.3999
 996185303px\;"><strong>Agenda<br />\n</strong></a>VAWA Task Force -<a href=
 "/conferences-events/ncai-events/VAWA_Task_Force_final.pdf"> <strong>Agenda
 &nbsp\;</strong></a></p>\n<p class="default"><strong>Thursday\, February 26
 th<br />\n</strong>Annual FCC Dialouge Session - <a href="/conferences-even
 ts/ncai-events/Agenda_for_NCAI-FCC_Annual_Dialogue.pdf"><strong>Agenda</str
 ong></a><br />\nBureau of Indian Education Transformation Update - <a href=
 "/conferences-events/ncai-events/DOI_Consultation_Invite_Letter.pdf"><stron
 g>Invite Letter</strong></a><br />\nHousing Improvement Program Consultatio
 n with the Department of the Interior - <a href="http://cms.ncai.org/confer
 ences-events/ncai-events/DOI_Consultation_Invite_Letter.pdf">I<strong>nvite
  Letter</strong></a>\, <a href="/conferences-events/ncai-events/Housing_Pro
 posed_Rule.01-02-14.pdf"><strong>Proposed Rule</strong></a>\, <a href="/con
 ferences-events/ncai-events/Proposed_Rule_Correction.pdf"><strong>Proposed 
 Rule Correction</strong></a><br />\nOne USDA: Food\, Sovereignty\, Agricult
 ure\, Housing\, and Education - <a href="/conferences-events/ncai-events/On
 e_USDA_Flyer.pdf"><strong>Flyer</strong></a><br />\nSmall Business Administ
 ration Consultation - <a href="/conferences-events/ncai-events/SBA_Consulta
 tion_Invitation.pdf"><strong>Invite Letter</strong></a></p>\n<p class="defa
 ult"><a href="/conferences-events/ncai-events/ECWS_2015_Agenda_in_Brief_-_1
 2.17.2014.pdf" style="font-size: 14.3999996185303px\; border-bottom-width: 
 0px\;"><strong>Draft Agenda at a Glance</strong></a><span style="font-size:
  14.3999996185303px\;">&nbsp\;</span><span style="font-size: 14.39999961853
 03px\;">now available!</span></p>\n<p class="default"><a href="/conferences
 -events/ncai-events/Youth_Agenda_2015_ECWS.pdf"><strong>Youth Agenda</stron
 g></a> now available!</p>
DTEND:20150226
DTSTAMP:20210605T003819
DTSTART:20150223
CLASS:PRIVATE
LOCATION:Washington\, DC
SEQUENCE:0
SUMMARY:2015 Executive Council Winter Session
UID:2021-06-05T00:38:19-04:00_903105187@ncai.org
END:VEVENT
END:VCALENDAR
